BEGIN:VCALENDAR
VERSION:2.0
PRODID:icalendar-ruby
CALSCALE:GREGORIAN
METHOD:PUBLISH
BEGIN:VEVENT
DTSTAMP:20260425T020323Z
UID:8-907035@floridacityfirst.org
DTSTART:20261105T000000Z
DTEND:20261105T010000Z
CLASS:PUBLIC
CREATED:20260424T215856
DESCRIPTION:MIDWEEK DEEP DIVE
LAST-MODIFIED:20260424T215856
LOCATION:
SUMMARY:MIDWEEK DEEP DIVE
URL;VALUE=URI:https://floridacityfirst.org/events/midweek-deep-dive/2026-11
 -04
ATTACH;FILENAME=IMG_1474.jpg;FMTTYPE=image/jpeg:https://dq5pwpg1q8ru0.cloud
 front.net/2023/08/29/14/23/52/299485e1-d9b9-490f-a684-d70ff4440246/IMG_147
 4.jpg
END:VEVENT
END:VCALENDAR
